Workbook

Sheet PROGRAM
A1: IĞDIR ÜNİVERSİTESİ TUZLUCA MESLEK YÜKSEKOKULU 2026-2027 (GÜZ DÖNEMİ) VİZE PROGRAMI
A43: Mahkeme Büro | B43: 1.SINIF | C43: DERS | D43: TARİH | E43: SAAT | F43: DERSLİK | G43: DERSİ VEREN Ö.E/Ö.Ü | H43: GÖZETMEN | J43: GÖZETMEN
C44: Atatürk İlkeleri ve İnkılap Tarihi-I Türk Dili-I, Yabancı Dil-I | D44: 46338 | E44: 0.41666667 | F44: UZMER | G44: UZMER
C45: HUKUKUN TEMEL KAVRAMLARI | D45: 46335 | E45: 0.41666667 | F45: 308 | G45: Dr. Öğr. Üyesi Hakan Çayalan
C46: HUKUK DİLİ VE ADLİ YAZIŞMALAR | D46: 46335 | E46: 0.54166667 | F46: 308 | G46: Öğr. Gör. Abdulgani Furkan
C47: İŞ SAĞLIĞI VE GÜVENLİĞİ | D47: 46336 | E47: 0.45833333 | F47: 308 | G47: Dr. Öğr. Üyesi Okan Özbakır
C48: ANAYASA HUKUKU | D48: 46336 | E48: 0.54166667 | F48: 308 | G48: Öğr. Gör. Abdulgani Furkan
C49: MEDENİ HUKUK 1 | D49: 46337 | E49: 0.41666667 | F49: 308 | G49: Öğr. Gör. Senem Önder Özbakır
C50: KARİYER PLANLAMA | D50: 46337 | E50: 0.54166667 | F50: 308 | G50: Öğr. Gör. Aysun Altay
C51: MESLEK ETİĞİ | D51: 46339 | E51: 0.41666667 | F51: 308 | G51: Öğr. Gör. Nuray Bayat Usta
C52: KLAVYE KULLANIMI I | D52: 46339 | E52: 0.54166667 | F52: bilg. Lab. | G52: Öğr. Gör. Nurullah Şakir
A53: Mahkeme Büro | B53: 2.SINIF | C53: DERS | D53: TARİH | E53: SAAT | F53: DERSLİK | G53: DERSİ VEREN Ö.E/Ö.Ü | H53: GÖZETMEN | J53: GÖZETMEN
C54: YÖNETİM VE ORGANİZASYON | D54: 46335 | E54: 0.45833333 | F54: ödev | G54: Öğr. Gör. Aysun Altay
C55: MALİ HUKUK | D55: 46335 | E55: 0.58333333 | F55: 308 | G55: Öğr. Gör. Abdulgani Furkan
C56: CEZA HUKUKU | D56: 46337 | E56: 0.375 | F56: 201-202 | G56: Prof. Dr. Recep Gülşen | H56: Öğr. Gör. Senem Önder Özbakır
C57: DİKSİYON | D57: 46336 | E57: 0.58333333 | F57: 308 | G57: Öğr. Gör. Dr. Recep Altay
C58: KALEM MEVZUATI | D58: 46336 | E58: 0.45833333 | F58: 308 | G58: Öğr. Gör. Abdulgani Furkan
C59: UYAP | D59: 46337 | E59: 0.58333333 | F59: 308 | G59: Öğr. Gör. Abdulgani Furkan
C60: MEDENİ USUL HUKUKU | D60: 46338 | E60: 0.58333333 | F60: 308 | G60: Öğr. Gör. Senem Önder Özbakır
C61: KLAVYE KULLANIMI III | D61: 46339 | E61: 0.45833333 | F61: 308 | G61: Öğr. Gör. Nurullah Şakir
A62: ADALET | C62: TİCARET HUKUKU | D62: 46339 | E62: 0.66666667 | F62: 308 | G62: Öğr. Gör. Aysun Altay
A63: ÇOCUK GELİŞİMİ | B63: 1.SINIF | C63: DERS | D63: TARİH | E63: SAAT | F63: DERSLİK | G63: DERSİ VEREN Ö.E/Ö.Ü | H63: GÖZETMEN | I63: GÖZETMEN
C64: Atatürk İlkeleri ve İnkılap Tarihi-I Türk Dili-I, Yabancı Dil-I | D64: 46338 | E64: 0.41666667 | F64: UZMER | G64: UZMER
C65: ÇOCUK GELİŞİMİ I | D65: 46335 | E65: 0.625 | F65: 210 | G65: Öğr. Gör. Derya Atalay
C66: ÖĞRENME VE ÖĞRETME TEKNİKLERİ | D66: 46338 | E66: 0.66666667 | F66: 210 | G66: Öğr. Gör. Nuray Bayat Usta
C67: ÖZEL EĞİTİM | D67: 46336 | E67: 0.45833333 | F67: 210 | G67: Öğr. Gör. Derya Atalay
C68: ÇOCUK BESLENMESİ | D68: 46337 | E68: 0.625 | F68: 210-309 | G68: Öğr. Gör. Dr. Rabia Acemioğlu Dokcu | H68: Öğr. Gör. Hatice Karadağ
C69: AKADEMİK TÜRKÇE | D69: 46337 | E69: 0.45833333 | F69: 210-309 | G69: Öğr. Gör. Dr. Rabia Acemioğlu Dokcu | H69: Öğr. Gör. Safter Bozarslan
C70: İş Sağlığı ve Güvenliği | D70: 46336 | E70: 0.625 | F70: 210-309 | G70: Dr. Öğr. Üyesi Aybek Yiğit | H70: Dr. Öğr. Üyesi Hakan Çayalan
C71: KARİYER PLANLAMA | D71: 46339 | E71: 0.45833333 | F71: 210-309 | G71: Öğr. Gör. Alaaddin Yanardağ | H71: Öğr. Gör. Dr. Rabia Acemioğlu Dokcu
C72: MATEMATİK | D72: 46339 | E72: 0.625 | F72: 210-309 | G72: Öğr. Gör. Dr. Rabia Acemioğlu Dokcu | H72: Öğr. Gör. Nuray Bayat Usta
A74: ÇOCUK GELİŞİMİ | B74: 2.SINIF | C74: DERS | D74: TARİH | E74: SAAT | F74: DERSLİK | G74: DERSİ VEREN Ö.E/Ö.Ü | H74: GÖZETMEN | I74: GÖZETMEN
C75: MESLEK ETİĞİ | D75: 46338 | E75: 0.58333333 | F75: 210-309 | G75: Öğr. Gör. Alaaddin Yanardağ | H75: Öğr. Gör. Nuray Bayat Usta
C76: ÇOCUK VE DRAMA | F76: ödev | G76: Öğr. Gör. Derya Atalay
C77: EĞİTİMDE ARAÇ GEREÇ GELİŞTİRME | F77: ödev | G77: Öğr. Gör. Derya Atalay
C78: OKUL ÖNCESİ EĞ. KUR. UYGULAMA I | F78: ödev | G78: Öğr. Gör. Dr. Rabia Acemioğlu Dokcu
C79: ÇOCUKLA İLETİŞİM | D79: 46336 | E79: 0.54166667 | F79: 207 | G79: Öğr. Gör. Alaaddin Yanardağ
C80: DAVRANIŞ YÖNETİMİ | D80: 46335 | E80: 0.54166667 | F80: 207-208 | G80: Öğr. Gör. Dr. Rabia Acemioğlu Dokcu | H80: Öğr. Gör. Dr. Recep Altay
C81: Çocuklar İçin Felsefe | D81: 46338 | E81: 0.54166667 | F81: 207-208 | G81: Öğr. Gör. Nuray Bayat Usta | H81: Öğr. Gör. Elif Taner Karagözlü
C82: ÇOCUK PSİKOLOJİSİ VE RUH SAĞLIĞI | D82: 46339 | E82: 0.54166667 | F82: 207-208 | G82: Öğr. Gör. Nuray Bayat Usta | H82: Öğr. Gör. Ali Parim
...

Sheet GÖZETMENLİK SAYILARI
E2: Sınav Sayısı | F2: Gözetmenlik | G2: Toplam | H2: Arama anahtarı
D3: E.Bayar | E3: =COUNTIFS(PROGRAM!$G$44:$G$235,"*"&H3&"*",PROGRAM!$F$44:$F$235,"<>ödev") -> 5 | F3: =COUNTIF(PROGRAM!$H$44:$K$235,"*"&H3&"*") -> 4 | G3: =E3+F3 -> 9 | H3: Bayar
D4: A. Civaş | E4: =COUNTIFS(PROGRAM!$G$44:$G$235,"*"&H4&"*",PROGRAM!$F$44:$F$235,"<>ödev") -> 4 | F4: =COUNTIF(PROGRAM!$H$44:$K$235,"*"&H4&"*") -> 5 | G4: =E4+F4 -> 9 | H4: Civaş
D5: M.Ferah | E5: =COUNTIFS(PROGRAM!$G$44:$G$235,"*"&H5&"*",PROGRAM!$F$44:$F$235,"<>ödev") -> 4 | F5: =COUNTIF(PROGRAM!$H$44:$K$235,"*"&H5&"*") -> 4 | G5: =E5+F5 -> 8 | H5: Ferah
D6: S. Bozarslan | E6: =COUNTIFS(PROGRAM!$G$44:$G$235,"*"&H6&"*",PROGRAM!$F$44:$F$235,"<>ödev") -> 2 | F6: =COUNTIF(PROGRAM!$H$44:$K$235,"*"&H6&"*") -> 6 | G6: =E6+F6 -> 8 | H6: Bozarslan
D7: S. Bulan | E7: =COUNTIFS(PROGRAM!$G$44:$G$235,"*"&H7&"*",PROGRAM!$F$44:$F$235,"<>ödev") -> 5 | F7: =COUNTIF(PROGRAM!$H$44:$K$235,"*"&H7&"*") -> 4 | G7: =E7+F7 -> 9 | H7: Bulan
D8: D. Atalay | E8: =COUNTIFS(PROGRAM!$G$44:$G$235,"*"&H8&"*",PROGRAM!$F$44:$F$235,"<>ödev") -> 2 | F8: =COUNTIF(PROGRAM!$H$44:$K$235,"*"&H8&"*") -> 0 | G8: =E8+F8 -> 2 | H8: Atalay
D9: E. Taner | E9: =COUNTIFS(PROGRAM!$G$44:$G$235,"*"&H9&"*",PROGRAM!$F$44:$F$235,"<>ödev") -> 4 | F9: =COUNTIF(PROGRAM!$H$44:$K$235,"*"&H9&"*") -> 4 | G9: =E9+F9 -> 8 | H9: Taner
D10: A.Furkan | E10: =COUNTIFS(PROGRAM!$G$44:$G$235,"*"&H10&"*",PROGRAM!$F$44:$F$235,"<>ödev") -> 8 | F10: =COUNTIF(PROGRAM!$H$44:$K$235,"*"&H10&"*") -> 1 | G10: =E10+F10 -> 9 | H10: Furkan
D11: İ.Atış | E11: =COUNTIFS(PROGRAM!$G$44:$G$235,"*"&H11&"*",PROGRAM!$F$44:$F$235,"<>ödev") -> 5 | F11: =COUNTIF(PROGRAM!$H$44:$K$235,"*"&H11&"*") -> 4 | G11: =E11+F11 -> 9 | H11: Atış
D12: G. Yerlikaya | E12: =COUNTIFS(PROGRAM!$G$44:$G$235,"*"&H12&"*",PROGRAM!$F$44:$F$235,"<>ödev") -> 8 | F12: =COUNTIF(PROGRAM!$H$44:$K$235,"*"&H12&"*") -> 1 | G12: =E12+F12 -> 9 | H12: Yerlikaya
D13: N.B.Usta | E13: =COUNTIFS(PROGRAM!$G$44:$G$235,"*"&H13&"*",PROGRAM!$F$44:$F$235,"<>ödev") -> 4 | F13: =COUNTIF(PROGRAM!$H$44:$K$235,"*"&H13&"*") -> 4 | G13: =E13+F13 -> 8 | H13: Bayat Usta
D14: S. Ö. Özbakır | E14: =COUNTIFS(PROGRAM!$G$44:$G$235,"*"&H14&"*",PROGRAM!$F$44:$F$235,"<>ödev") -> 2 | F14: =COUNTIF(PROGRAM!$H$44:$K$235,"*"&H14&"*") -> 6 | G14: =E14+F14 -> 8 | H14: Önder Özbakır
... D32: Y.A.Akar | E32: =COUNTIFS(PROGRAM!$G$44:$G$235,"*"&H32&"*",PROGRAM!$F$44:$F$235,"<>ödev") -> 3 | F32: =COUNTIF(PROGRAM!$H$44:$K$235,"*"&H32&"*") -> 0 | G32: =E32+F32 -> 3 | H32: Ali Akar
D33: TOPLAM | E33: =SUM(E3:E32) -> 133 | F33: =SUM(F3:F32) -> 86 | G33: =SUM(G3:G32) -> 219
