Workbook

Sheet PROGRAM
A1: IĞDIR ÜNİVERSİTESİ TUZLUCA MESLEK YÜKSEKOKULU 2026-2027 (GÜZ DÖNEMİ) VİZE PROGRAMI
A43: Mahkeme Büro | B43: 1.SINIF | C43: DERS | D43: TARİH | E43: SAAT | F43: DERSLİK | G43: DERSİ VEREN Ö.E/Ö.Ü | H43: GÖZETMEN | J43: GÖZETMEN
C44: Atatürk İlkeleri ve İnkılap Tarihi-I Türk Dili-I, Yabancı Dil-I | D44: 46338 | E44: 0.41666667 | F44: UZMER | G44: UZMER
C45: HUKUKUN TEMEL KAVRAMLARI | D45: 46335 | E45: 0.41666667 | F45: 308 | G45: Dr. Öğr. Üyesi Hakan Çayalan
C46: HUKUK DİLİ VE ADLİ YAZIŞMALAR | D46: 46335 | E46: 0.54166667 | F46: 308 | G46: Öğr. Gör. Abdulgani Furkan
C47: İŞ SAĞLIĞI VE GÜVENLİĞİ | D47: 46336 | E47: 0.45833333 | F47: 308 | G47: Dr. Öğr. Üyesi Okan Özbakır
C48: ANAYASA HUKUKU | D48: 46336 | E48: 0.54166667 | F48: 308 | G48: Öğr. Gör. Abdulgani Furkan
C49: MEDENİ HUKUK 1 | D49: 46337 | E49: 0.41666667 | F49: 308 | G49: Öğr. Gör. Senem Önder Özbakır
C50: KARİYER PLANLAMA | D50: 46337 | E50: 0.54166667 | F50: 308 | G50: Öğr. Gör. Aysun Altay
C51: MESLEK ETİĞİ | D51: 46339 | E51: 0.41666667 | F51: 308 | G51: Öğr. Gör. Nuray Bayat Usta
C52: KLAVYE KULLANIMI I | D52: 46339 | E52: 0.54166667 | F52: bilg. Lab. | G52: Öğr. Gör. Nurullah Şakir
A53: Mahkeme Büro | B53: 2.SINIF | C53: DERS | D53: TARİH | E53: SAAT | F53: DERSLİK | G53: DERSİ VEREN Ö.E/Ö.Ü | H53: GÖZETMEN | J53: GÖZETMEN
C54: YÖNETİM VE ORGANİZASYON | D54: 46335 | E54: 0.45833333 | F54: ödev | G54: Öğr. Gör. Aysun Altay
C55: MALİ HUKUK | D55: 46335 | E55: 0.58333333 | F55: 308 | G55: Öğr. Gör. Abdulgani Furkan
C56: CEZA HUKUKU | D56: 46337 | E56: 0.375 | F56: 201-202 | G56: Prof. Dr. Recep Gülşen | H56: Öğr. Gör. Senem Önder Özbakır
C57: DİKSİYON | D57: 46336 | E57: 0.58333333 | F57: 308 | G57: Öğr. Gör. Dr. Recep Altay
C58: KALEM MEVZUATI | D58: 46336 | E58: 0.45833333 | F58: 308 | G58: Öğr. Gör. Abdulgani Furkan
C59: UYAP | D59: 46337 | E59: 0.58333333 | F59: 308 | G59: Öğr. Gör. Abdulgani Furkan
C60: MEDENİ USUL HUKUKU | D60: 46338 | E60: 0.58333333 | F60: 308 | G60: Öğr. Gör. Senem Önder Özbakır
C61: KLAVYE KULLANIMI III | D61: 46339 | E61: 0.45833333 | F61: 308 | G61: Öğr. Gör. Nurullah Şakir
A62: ADALET | C62: TİCARET HUKUKU | D62: 46339 | E62: 0.66666667 | F62: 308 | G62: Öğr. Gör. Aysun Altay
A63: ÇOCUK GELİŞİMİ | B63: 1.SINIF | C63: DERS | D63: TARİH | E63: SAAT | F63: DERSLİK | G63: DERSİ VEREN Ö.E/Ö.Ü | H63: GÖZETMEN | I63: GÖZETMEN
C64: Atatürk İlkeleri ve İnkılap Tarihi-I Türk Dili-I, Yabancı Dil-I | D64: 46338 | E64: 0.41666667 | F64: UZMER | G64: UZMER
C65: ÇOCUK GELİŞİMİ I | D65: 46335 | E65: 0.625 | F65: 210 | G65: Öğr. Gör. Derya Atalay
C66: ÖĞRENME VE ÖĞRETME TEKNİKLERİ | D66: 46338 | E66: 0.66666667 | F66: 210 | G66: Öğr. Gör. Nuray Bayat Usta
C67: ÖZEL EĞİTİM | D67: 46336 | E67: 0.45833333 | F67: 210 | G67: Öğr. Gör. Derya Atalay
C68: ÇOCUK BESLENMESİ | D68: 46337 | E68: 0.625 | F68: 210-309 | G68: Öğr. Gör. Dr. Rabia Acemioğlu Dokcu | H68: Öğr. Gör. Hatice Karadağ
C69: AKADEMİK TÜRKÇE | D69: 46337 | E69: 0.45833333 | F69: 210-309 | G69: Öğr. Gör. Dr. Rabia Acemioğlu Dokcu | H69: Öğr. Gör. Safter Bozarslan
C70: İş Sağlığı ve Güvenliği | D70: 46336 | E70: 0.625 | F70: 210-309 | G70: Dr. Öğr. Üyesi Aybek Yiğit | H70: Dr. Öğr. Üyesi Hakan Çayalan
C71: KARİYER PLANLAMA | D71: 46339 | E71: 0.45833333 | F71: 210-309 | G71: Öğr. Gör. Alaaddin Yanardağ | H71: Öğr. Gör. Dr. Rabia Acemioğlu Dokcu
C72: MATEMATİK | D72: 46339 | E72: 0.625 | F72: 210-309 | G72: Öğr. Gör. Dr. Rabia Acemioğlu Dokcu | H72: Öğr. Gör. Nuray Bayat Usta
A74: ÇOCUK GELİŞİMİ | B74: 2.SINIF | C74: DERS | D74: TARİH | E74: SAAT | F74: DERSLİK | G74: DERSİ VEREN Ö.E/Ö.Ü | H74: GÖZETMEN | I74: GÖZETMEN
C75: MESLEK ETİĞİ | D75: 46338 | E75: 0.58333333 | F75: 210-309 | G75: Öğr. Gör. Alaaddin Yanardağ | H75: Öğr. Gör. Nuray Bayat Usta
C76: ÇOCUK VE DRAMA | F76: ödev | G76: Öğr. Gör. Derya Atalay
C77: EĞİTİMDE ARAÇ GEREÇ GELİŞTİRME | F77: ödev | G77: Öğr. Gör. Derya Atalay
C78: OKUL ÖNCESİ EĞ. KUR. UYGULAMA I | F78: ödev | G78: Öğr. Gör. Dr. Rabia Acemioğlu Dokcu
C79: ÇOCUKLA İLETİŞİM | D79: 46336 | E79: 0.54166667 | F79: 207 | G79: Öğr. Gör. Alaaddin Yanardağ
C80: DAVRANIŞ YÖNETİMİ | D80: 46335 | E80: 0.54166667 | F80: 207-208 | G80: Öğr. Gör. Dr. Rabia Acemioğlu Dokcu | H80: Öğr. Gör. Dr. Recep Altay
C81: Çocuklar İçin Felsefe | D81: 46338 | E81: 0.54166667 | F81: 207-208 | G81: Öğr. Gör. Nuray Bayat Usta | H81: Öğr. Gör. Elif Taner Karagözlü
C82: ÇOCUK PSİKOLOJİSİ VE RUH SAĞLIĞI | D82: 46339 | E82: 0.54166667 | F82: 207-208 | G82: Öğr. Gör. Nuray Bayat Usta | H82: Öğr. Gör. Ali Parim
A84: ECZANE HİZMETLERİ | B84: 1.SINIF | C84: DERS | D84: TARİH | E84: SAAT | F84: DERSLİK | G84: DERSİ VEREN Ö.E/Ö.Ü | H84: GÖZETMEN | I84: GÖZETMEN
C85: Atatürk İlkeleri ve İnkılap Tarihi-I Türk Dili-I, Yabancı Dil-I | D85: 46338 | E85: 0.41666667 | F85: UZMER | G85: UZMER
C86: KARİYER PLANLAMA | D86: 46335 | E86: 0.45833333 | F86: 306-307 | G86: Dr. Öğr. Üyesi Aybek Yiğit | H86: Dr. Öğr. Üyesi Ayhan Akgün
C87: TIBBİ TERMİNOLOJİ | D87: 46335 | E87: 0.58333333 | F87: 306-307 | G87: Dr. Öğr. Üyesi Aybek Yiğit | H87: Dr. Öğr. Üyesi Hakan Çayalan
C88: İŞ SAĞLIĞI VE GÜVENLİĞİ | D88: 46337 | E88: 0.45833333 | F88: 306-307 | G88: Öğr. Gör. Yeşim Aydın Dursun | H88: Öğr. Gör. Elif Taner Karagözlü
C89: TEMEL ANATOMİ | D89: 46339 | E89: 0.58333333 | F89: 306-307 | G89: Öğr. Gör. Gökhan Yerlikaya | H89: Öğr. Gör. Servet Türkan
C90: TIBBİ BİTKİSEL ÜRÜNLER | D90: 46336 | E90: 0.41666667 | F90: 306-307 | G90: Öğr. Gör. Dr. Ayşe Civaş | H90: Öğr. Gör. Elif Taner Karagözlü
C91: BİLGİ VE İLETİŞİM TEKNOLOJİLERİ | D91: 46336 | E91: 0.45833333 | F91: 306-307 | G91: Öğr. Gör. Dr. Rabia Acemioğlu Dokcu | H91: Öğr. Gör. Hatice Karadağ
C92: TEMEL MİKROBİYOLOJİ | D92: 46337 | E92: 0.58333333 | F92: 306-307 | G92: Dr. Öğr. Üyesi Gökhan Koçak | H92: Dr. Öğr. Üyesi Şemistan Kızıltepe
C93: LABORATUVAR ALETLERİ | D93: 46339 | E93: 0.45833333 | F93: 306-307 | G93: Öğr. Gör. Dr. Ayşe Civaş | H93: Öğr. Gör. Servet Bulan
A95: ECZANE HİZMETLERİ | B95: 2.SINIF | C95: DERS | D95: TARİH | E95: SAAT | F95: DERSLİK | G95: DERSİ VEREN Ö.E/Ö.Ü | H95: GÖZETMEN | I95: GÖZETMEN
C96: ORGANİK KİMYADA TEMEL KAVRAMLAR | D96: 46335 | E96: 0.41666667 | F96: 306-307 | G96: Dr. Öğr. Üyesi Aybek Yiğit | H96: Dr. Öğr. Üyesi Hakan Bakar
C97: HASTALIKLAR BİLGİSİ | D97: 46335 | E97: 0.54166667 | F97: 306-307 | G97: Dr. Öğr. Üyesi Aybek Yiğit | H97: Dr. Öğr. Üyesi Şemistan Kızıltepe
C98: Girişimcilik | D98: 46336 | E98: 0.54166667 | F98: 306-307 | G98: Dr. Öğr. Üyesi Aybek Yiğit | H98: Dr. Öğr. Üyesi Ayhan Akgün
C99: ECZANE KAYITLARI VE STOK YÖNTEMLERİ | D99: 46336 | E99: 0.375 | F99: 207 | G99: Öğr. Gör. Dr. Ayşe Civaş
C100: İLK YARDIM | D100: 46338 | E100: 0.625 | F100: karaağaç117 | G100: Öğr. Gör. Yunus Demirel
C101: HİJYEN SANİTASYON | D101: 46335 | E101: 0.625 | F101: 306-307 | G101: Dr. Öğr. Üyesi Aybek Yiğit | H101: Dr. Öğr. Üyesi Hakan Çayalan
C102: BİYOKİMYA | D102: 46336 | E102: 0.58333333 | F102: 306-307 | G102: Dr. Öğr. Üyesi Aybek Yiğit | H102: Dr. Öğr. Üyesi Hakan Çayalan
C103: İLETİŞİM | D103: 46338 | E103: 0.58333333 | F103: 306-307 | G103: Öğr. Gör. Elif Taner Karagözlü | H103: Öğr. Gör. Ali Parim
C104: TEMEL ECZACILIK UYGULAMALARI | D104: 46339 | E104: 0.54166667 | F104: 306-307 | G104: Öğr. Gör. Dr. Ayşe Civaş | H104: Öğr. Gör. Abdulgani Furkan
A106: ENGELLİ BAKIM | B106: 1.SINIF | C106: DERS | D106: TARİH | E106: SAAT | F106: DERSLİK | G106: DERSİ VEREN Ö.E/Ö.Ü | H106: GÖZETMEN | I106: GÖZETMEN | J106: GÖZETMEN | K106: GÖZETMEN
C107: Atatürk İlkeleri ve İnkılap Tarihi-I Türk Dili-I, Yabancı Dil-I | D107: 46338 | E107: 0.41666667 | F107: UZMER | G107: UZMER
C108: Meslek Etiği | D108: 46337 | E108: 0.41666667 | F108: 207-208-209 | G108: Öğr. Gör. Gökhan Yerlikaya | H108: Öğr. Gör. Nurullah Şakir | I108: Öğr. Gör. Ali Parim
C109: Kariyer Planlama Dersi | D109: 46335 | E109: 0.41666667 | F109: 207-208-209 | G109: Öğr. Gör. Yusuf Ali Akar | H109: Öğr. Gör. Senem Önder Özbakır | I109: Öğr. Gör. Alaaddin Yanardağ
C110: İş Sağlığı ve Güvenliği | D110: 46336 | E110: 0.58333333 | F110: 207-208-209 | G110: Öğr. Gör. Yusuf Ali Akar | H110: Öğr. Gör. Dr. Ayşe Civaş | I110: Öğr. Gör. Evin Bayar
C111: Engel Grupları ve Özel Eğitim | D111: 46339 | E111: 0.41666667 | F111: 207-208-209 | G111: Öğr. Gör. Gökhan Yerlikaya | H111: Öğr. Gör. Senem Önder Özbakır | I111: Öğr. Gör. İnan Atış
C112: Anatomi | D112: 46339 | E112: 0.58333333 | F112: 207-208-209 | G112: Öğr. Gör. Gökhan Yerlikaya | H112: Öğr. Gör. Alaaddin Yanardağ | I112: Öğr. Gör. İnan Atış | K112: Öğr. Gör. Dr. Ayşe Civaş
C113: Beslenme İlkeleri | D113: 46336 | E113: 0.41666667 | F113: 207-208-209 | G113: Öğr. Gör. İnan Atış | H113: Öğr. Gör. Dr. Recep Altay | I113: Öğr. Gör. Safter Bozarslan
C114: Gelişim Psikolojisi | D114: 46337 | E114: 0.58333333 | F114: 207-208-209 | G114: Öğr. Gör. Gökhan Yerlikaya | H114: Öğr. Gör. Safter Bozarslan | I114: Öğr. Gör. İnan Atış
C115: Fizyoloji | D115: 46335 | E115: 0.58333333 | F115: 207-208-209 | G115: Öğr. Gör. İnan Atış | H115: Öğr. Gör. Dr. Ayşe Civaş | I115: Öğr. Gör. Servet Bulan
A117: ENGELLİ BAKIM | B117: 2.SINIF | C117: DERS | D117: TARİH | E117: SAAT | F117: DERSLİK | G117: DERSİ VEREN Ö.E/Ö.Ü | H117: GÖZETMEN | I117: GÖZETMEN
C118: Tedavi Edici Egzersizler | D118: 46337 | E118: 0.45833333 | F118: 207-208-209 | G118: Öğr. Gör. İnan Atış | H118: Öğr. Gör. Servet Türkan | I118: Öğr. Gör. Evin Bayar
C119: Halk Sağlığı | D119: 46335 | E119: 0.625 | F119: 207-208-209 | G119: Öğr. Gör. Yusuf Ali Akar | H119: Öğr. Gör. Elif Taner Karagözlü | I119: Öğr. Gör. Senem Önder Özbakır
C120: Aile Eğitimi | D120: 46336 | E120: 0.45833333 | F120: 207-208-209 | G120: Öğr. Gör. Serdar Öztürk | H120: Öğr. Gör. Nurullah Şakir | I120: Öğr. Gör. Merve Ferah Tazegül
C121: Farmakoloji | D121: 46336 | E121: 0.66666667 | F121: 306-307-210 | G121: Dr. Öğr. Üyesi Aybek Yiğit | H121: Dr. Öğr. Üyesi Hakan Çayalan | I121: Dr. Öğr. Üyesi Şemistan Kızıltepe
C122: Zihinsel Engellilerin Rehabilitasyonu | D122: 46336 | E122: 0.625 | F122: 207-208-209 | G122: Öğr. Gör. İnan Atış | H122: Öğr. Gör. Servet Türkan | I122: Öğr. Gör. Merve Ferah Tazegül
C123: Engelli Bakımı ve Rehabilitasyon Uygulamaları-I | D123: 46335 | E123: 0.45833333 | F123: 207-208-209 | G123: Öğr. Gör. İnan Atış | H123: Öğr. Gör. Dr. Ayşe Civaş | I123: Öğr. Gör. Safter Bozarslan
C124: Engelli Hakları | D124: 46339 | E124: 0.45833333 | F124: 207-208-209 | G124: Öğr. Gör. Gökhan Yerlikaya | H124: Öğr. Gör. Safter Bozarslan | I124: Öğr. Gör. Senem Önder Özbakır
C125: Matematik | D125: 46338 | E125: 0.625 | F125: 207-208-209 | G125: Öğr. Gör. Gökhan Yerlikaya | H125: Öğr. Gör. Safter Bozarslan | I125: Öğr. Gör. Nuray Bayat Usta
C126: Sosyal Rehabilitasyon | D126: 46339 | E126: 0.625 | F126: 207-208-209 | G126: Öğr. Gör. Gökhan Yerlikaya | H126: Öğr. Gör. Senem Önder Özbakır | I126: Öğr. Gör. Ali Parim
A128: POSTA HİZMETLERİ | B128: 1.SINIF | C128: DERS | D128: TARİH | E128: SAAT | F128: DERSLİK | G128: DERSİ VEREN Ö.E/Ö.Ü | H128: GÖZETMEN
C129: Atatürk İlkeleri ve İnkılap Tarihi-I Türk Dili-I, Yabancı Dil-I | D129: 46338 | E129: 0.41666667 | F129: UZMER | G129: UZMER
C130: Genel İşletme | D130: 46335 | E130: 0.375 | F130: 207 | G130: Öğr. Gör. Aysun Altay
C131: Temel Hukuk | D131: 46335 | E131: 0.66666667 | F131: 207 | G131: Öğr. Gör. Abdulgani Furkan
C132: Genel Muhasebe | D132: 46336 | E132: 0.66666667 | F132: 207 | G132: Öğr. Gör. Aysun Altay
C133: Değerler Eğitimi | D133: 46336 | E133: 0.45833333 | F133: 309 | G133: Öğr. Gör. Servet Türkan
C134: Posta Hizmetleri Mevzuatı | D134: 46337 | E134: 0.375 | F134: 207 | G134: Öğr. Gör. Evin Bayar
C135: Mektup Postası | D135: 46337 | E135: 0.66666667 | F135: 207 | G135: Öğr. Gör. Nurullah Şakir
C136: İş Sağlığı ve Güvenliği | D136: 46339 | E136: 0.5 | F136: 207 | G136: Öğr. Gör. Evin Bayar
C137: Kariyer Planlama | D137: 46339 | E137: 0.66666667 | F137: 207 | G137: Öğr. Gör. Nurullah Şakir
A140: POSTA HİZMETLERİ | B140: 2.SINIF | C140: DERS | D140: TARİH | E140: SAAT | F140: DERSLİK | G140: DERSİ VEREN Ö.E/Ö.Ü | H140: GÖZETMEN
C141: TİCARET HUKUKU | D141: 46339 | E141: 0.66666667 | F141: 208 | G141: Öğr. Gör. Aysun Altay
C142: Genel Ekonomi 1 | D142: 46336 | E142: 0.5 | F142: 208 | G142: Öğr. Gör. Evin Bayar
C143: Posta Taşımacılığı ve Yön Bilgisi | D143: 46336 | E143: 0.66666667 | F143: 208 | G143: Öğr. Gör. Evin Bayar
C144: Sosyoloji | D144: 46337 | E144: 0.66666667 | F144: 208 | G144: Öğr. Gör. Alaaddin Yanardağ
C145: Depolama Yöntemi | D145: 46335 | E145: 0.5 | F145: 208 | G145: Öğr. Gör. Hakan Güngör
C146: Parasal Posta Hizmetleri | D146: 46338 | E146: 0.625 | F146: 306 | G146: Öğr. Gör. Nurullah Şakir
C147: Meslek Etiği | D147: 46339 | E147: 0.5 | F147: 208 | G147: Öğr. Gör. Nurullah Şakir
C148: Lojistik Hizmetleri | D148: 46335 | E148: 0.66666667 | F148: 208 | G148: Öğr. Gör. Hakan Güngör
A150: RADYO VE TV PROG. | B150: 1.SINIF | C150: DERS | E150: SAAT | F150: DERSLİK | G150: DERSİ VEREN Ö.E/Ö.Ü | H150: GÖZETMEN
...

Sheet GÖZETMENLİK SAYILARI
E2: Sınav Sayısı | F2: Gözetmenlik | G2: Toplam | H2: Arama anahtarı
D3: E.Bayar | E3: =COUNTIFS(PROGRAM!$G$44:$G$235,"*"&H3&"*",PROGRAM!$F$44:$F$235,"<>ödev") -> 5 | F3: =COUNTIF(PROGRAM!$H$44:$K$235,"*"&H3&"*") -> 4 | G3: =E3+F3 -> 9 | H3: Bayar
D4: A. Civaş | E4: =COUNTIFS(PROGRAM!$G$44:$G$235,"*"&H4&"*",PROGRAM!$F$44:$F$235,"<>ödev") -> 4 | F4: =COUNTIF(PROGRAM!$H$44:$K$235,"*"&H4&"*") -> 5 | G4: =E4+F4 -> 9 | H4: Civaş
D5: M.Ferah | E5: =COUNTIFS(PROGRAM!$G$44:$G$235,"*"&H5&"*",PROGRAM!$F$44:$F$235,"<>ödev") -> 4 | F5: =COUNTIF(PROGRAM!$H$44:$K$235,"*"&H5&"*") -> 4 | G5: =E5+F5 -> 8 | H5: Ferah
D6: S. Bozarslan | E6: =COUNTIFS(PROGRAM!$G$44:$G$235,"*"&H6&"*",PROGRAM!$F$44:$F$235,"<>ödev") -> 2 | F6: =COUNTIF(PROGRAM!$H$44:$K$235,"*"&H6&"*") -> 6 | G6: =E6+F6 -> 8 | H6: Bozarslan
D7: S. Bulan | E7: =COUNTIFS(PROGRAM!$G$44:$G$235,"*"&H7&"*",PROGRAM!$F$44:$F$235,"<>ödev") -> 5 | F7: =COUNTIF(PROGRAM!$H$44:$K$235,"*"&H7&"*") -> 4 | G7: =E7+F7 -> 9 | H7: Bulan
D8: D. Atalay | E8: =COUNTIFS(PROGRAM!$G$44:$G$235,"*"&H8&"*",PROGRAM!$F$44:$F$235,"<>ödev") -> 2 | F8: =COUNTIF(PROGRAM!$H$44:$K$235,"*"&H8&"*") -> 0 | G8: =E8+F8 -> 2 | H8: Atalay
D9: E. Taner | E9: =COUNTIFS(PROGRAM!$G$44:$G$235,"*"&H9&"*",PROGRAM!$F$44:$F$235,"<>ödev") -> 4 | F9: =COUNTIF(PROGRAM!$H$44:$K$235,"*"&H9&"*") -> 4 | G9: =E9+F9 -> 8 | H9: Taner
D10: A.Furkan | E10: =COUNTIFS(PROGRAM!$G$44:$G$235,"*"&H10&"*",PROGRAM!$F$44:$F$235,"<>ödev") -> 8 | F10: =COUNTIF(PROGRAM!$H$44:$K$235,"*"&H10&"*") -> 1 | G10: =E10+F10 -> 9 | H10: Furkan
D11: İ.Atış | E11: =COUNTIFS(PROGRAM!$G$44:$G$235,"*"&H11&"*",PROGRAM!$F$44:$F$235,"<>ödev") -> 5 | F11: =COUNTIF(PROGRAM!$H$44:$K$235,"*"&H11&"*") -> 4 | G11: =E11+F11 -> 9 | H11: Atış
D12: G. Yerlikaya | E12: =COUNTIFS(PROGRAM!$G$44:$G$235,"*"&H12&"*",PROGRAM!$F$44:$F$235,"<>ödev") -> 8 | F12: =COUNTIF(PROGRAM!$H$44:$K$235,"*"&H12&"*") -> 1 | G12: =E12+F12 -> 9 | H12: Yerlikaya
D13: N.B.Usta | E13: =COUNTIFS(PROGRAM!$G$44:$G$235,"*"&H13&"*",PROGRAM!$F$44:$F$235,"<>ödev") -> 4 | F13: =COUNTIF(PROGRAM!$H$44:$K$235,"*"&H13&"*") -> 4 | G13: =E13+F13 -> 8 | H13: Bayat Usta
D14: S. Ö. Özbakır | E14: =COUNTIFS(PROGRAM!$G$44:$G$235,"*"&H14&"*",PROGRAM!$F$44:$F$235,"<>ödev") -> 2 | F14: =COUNTIF(PROGRAM!$H$44:$K$235,"*"&H14&"*") -> 6 | G14: =E14+F14 -> 8 | H14: Önder Özbakır
... D32: Y.A.Akar | E32: =COUNTIFS(PROGRAM!$G$44:$G$235,"*"&H32&"*",PROGRAM!$F$44:$F$235,"<>ödev") -> 3 | F32: =COUNTIF(PROGRAM!$H$44:$K$235,"*"&H32&"*") -> 0 | G32: =E32+F32 -> 3 | H32: Ali Akar
D33: TOPLAM | E33: =SUM(E3:E32) -> 133 | F33: =SUM(F3:F32) -> 86 | G33: =SUM(G3:G32) -> 219
